BEGIN:VCALENDAR
VERSION:2.0
PRODID:-//ChamberMaster//Event Calendar 2.0//EN
METHOD:PUBLISH
X-PUBLISHED-TTL:P3D
REFRESH-INTERVAL:P3D
CALSCALE:GREGORIAN
BEGIN:VEVENT
DTSTART:20190614T120000Z
DTEND:20190614T233000Z
X-MICROSOFT-CDO-ALLDAYEVENT:FALSE
SUMMARY:2019 Camp City Awake
DESCRIPTION:Break your routine\, build Boston.\n\nOnce a year\, we challenge ourselves to a decidedly different approach to next gen connection and conversation: Camp City Awake. This year\, we're keeping Boston in view with a day-long outdoor learning experience at Thompson Island. \n\nOn June 14th\, we'll take the short boat ride from our daily work to connect across industry and issue\, region-wide. Sometimes you need an alpine challenge course to discover immediately who has your back! If you're new to Boston\, or find yourself facing the same issues over and over in your workplace\, we encourage you to come. You'll meet people you might otherwise never have\, and come back to work with a few fresh ideas for Monday\, or your next chapter in Boston.\n\nAre you in? We can't wait to see you!
X-ALT-DESC;FMTTYPE=text/html:<p style="margin: 0px 0px 16px\; padding: 0px\; border: 0px\; font-variant-numeric: inherit\; font-variant-east-asian: inherit\; font-stretch: inherit\; font-size: 16px\; line-height: inherit\; font-family: &quot\;Trebuchet MS&quot\;\, &quot\;Helvetica Neue&quot\;\, Helvetica\, Tahoma\, sans-serif\; vertical-align: baseline\;"><span style="font-size:14px\;"><span style="font-family:arial\;">&#8203\;<span style="margin: 0px\; padding: 0px\; border: 0px\; font-style: inherit\; font-variant: inherit\; font-weight: inherit\; font-stretch: inherit\; line-height: inherit\; vertical-align: baseline\;">Break your routine\, build Boston.</span></span></span></p>\n\n<p style="margin: 0px 0px 16px\; padding: 0px\; border: 0px\; font-variant-numeric: inherit\; font-variant-east-asian: inherit\; font-stretch: inherit\; font-size: 16px\; line-height: inherit\; font-family: &quot\;Trebuchet MS&quot\;\, &quot\;Helvetica Neue&quot\;\, Helvetica\, Tahoma\, sans-serif\; vertical-align: baseline\;"><span style="font-size:14px\;"><span style="font-family:arial\;">Once a year\, we challenge ourselves to a decidedly different approach to next gen connection and conversation: Camp City Awake.&nbsp\;This year\, we&rsquo\;re keeping Boston in view with a day-long outdoor learning experience at Thompson Island.&nbsp\;</span></span></p>\n\n<p style="margin: 0px 0px 16px\; padding: 0px\; border: 0px\; font-variant-numeric: inherit\; font-variant-east-asian: inherit\; font-stretch: inherit\; font-size: 16px\; line-height: inherit\; font-family: &quot\;Trebuchet MS&quot\;\, &quot\;Helvetica Neue&quot\;\, Helvetica\, Tahoma\, sans-serif\; vertical-align: baseline\;"><span style="font-size:14px\;"><span style="font-family:arial\;">On June 14th\, we&rsquo\;ll take the short boat ride from our daily work to connect across industry and issue\, region-wide. Sometimes you need an alpine challenge course to discover immediately who has your back! If you&rsquo\;re new to Boston\, or find yourself facing the same issues over and over in your workplace\, we encourage you to come. You&rsquo\;ll meet people you might otherwise never have\, and come back to work with a few fresh ideas for Monday\, or your next chapter in Boston.</span></span></p>\n\n<p style="margin: 0px 0px 16px\; padding: 0px\; border: 0px\; font-variant-numeric: inherit\; font-variant-east-asian: inherit\; font-stretch: inherit\; font-size: 16px\; line-height: inherit\; font-family: &quot\;Trebuchet MS&quot\;\, &quot\;Helvetica Neue&quot\;\, Helvetica\, Tahoma\, sans-serif\; vertical-align: baseline\;"><span style="font-size:14px\;"><span style="font-family:arial\;"><em style="margin: 0px\; padding: 0px\; border: 0px\; font-variant: inherit\; font-weight: inherit\; font-stretch: inherit\; font-size: inherit\; line-height: inherit\; font-family: inherit\; vertical-align: baseline\;">Are you in? We can&rsquo\;t wait to see you!</em></span></span></p>\n
LOCATION:Thompson Island\, Boston Harbor
UID:e.2779.3583
SEQUENCE:3
DTSTAMP:20260423T174645Z
URL:https://members.bostonchamber.com/events/details/2019-camp-city-awake-3583
END:VEVENT

END:VCALENDAR
