BEGIN:VCALENDAR
VERSION:2.0
PRODID:-//ChamberMaster//Event Calendar 2.0//EN
METHOD:PUBLISH
X-PUBLISHED-TTL:P3D
REFRESH-INTERVAL:P3D
CALSCALE:GREGORIAN
BEGIN:VEVENT
DTSTART:20230913T140000Z
DTEND:20230913T150000Z
X-MICROSOFT-CDO-ALLDAYEVENT:FALSE
SUMMARY:2023 Government Affairs Forum | Mayor Michelle Wu
DESCRIPTION:Mayor Michelle Wu has been a fierce champion of accessibility\, transparency\, and community engagement in city leadership. First elected to City Council in 2013\, and then unanimously elected to be President of the City Council in 2016\, she became the first Asian-American to be elected city councilor and the first person of color to be the President of the City Council. In 2016\, Councilor Wu was honored as one of Ten Outstanding Young Leaders by the Greater Boston Chamber of Commerce. Join us to hear from Mayor Wu and her vision of Boston as a city for everyone. \n*Cancellation Policy: All cancellations must be received at least three (3) business days prior to the event to avoid being charged or to receive a refund.
X-ALT-DESC;FMTTYPE=text/html:<p style="margin: 0px\;"><span style="font-family: -apple-system\, BlinkMacSystemFont\, &quot\;Segoe UI&quot\;\, system-ui\, &quot\;Apple Color Emoji&quot\;\, &quot\;Segoe UI Emoji&quot\;\, &quot\;Segoe UI Web&quot\;\, sans-serif\; font-size: 14px\; white-space: pre-wrap\;">Mayor Michelle Wu has been a fierce champion of accessibility\, transparency\, and community engagement in city leadership. First elected to City Council in 2013\, and then unanimously elected to be President of the City Council in 2016\, she became the first Asian-American to be elected city councilor and the first person of color to be the President of the City Council. In 2016\, Councilor Wu was honored as one of Ten Outstanding Young Leaders by the Greater Boston Chamber of Commerce. Join us to hear from Mayor Wu and her vision of Boston as a city for everyone. </span></p>\n<strong>*Cancellation&nbsp\;Policy: All&nbsp\;cancellations&nbsp\;must be received at least three (3) business days prior to the event to avoid being charged or to receive a refund.</strong>
LOCATION:Fairmont Copley 138 St. James Ave Boston\, MA 02116
UID:e.2779.5859
SEQUENCE:3
DTSTAMP:20260425T165729Z
URL:https://members.bostonchamber.com/events/details/2023-government-affairs-forum-mayor-michelle-wu-5859
END:VEVENT

END:VCALENDAR
