BEGIN:VCALENDAR
VERSION:2.0
PRODID:-//ChamberMaster//Event Calendar 2.0//EN
METHOD:PUBLISH
X-PUBLISHED-TTL:P3D
REFRESH-INTERVAL:P3D
CALSCALE:GREGORIAN
BEGIN:VEVENT
DTSTART:20240613T190000Z
DTEND:20240613T210000Z
X-MICROSOFT-CDO-ALLDAYEVENT:FALSE
SUMMARY:2024 Annual Pacesetters Supplier Diversity Awards
DESCRIPTION:Join us for the third Annual Pacesetters Supplier Diversity Awards! This in-person event at the Greater Boston Chamber of Commerce will allow attendees to connect with peers from across the Pacesetters Ecosystem\, including buyers\, suppliers\, and business support organizations\, engage in a panel discussion covering best practices with this year's award winners\, and feel inspired about the continued opportunities there are to increase economic inclusion for minority business enterprises (MBEs).
X-ALT-DESC;FMTTYPE=text/html:<p class="p1" style="margin:0in"><span style="font-family:arial\;"><span class="s1"><span style="color: black\;">Join us for the third&nbsp\;</span></span></span>Annual Pacesetters Supplier Diversity Awards<span style="font-family:arial\;"><span class="s1"><span style="color: black\;">! This in-person event at the Greater Boston Chamber of Commerce will allow attendees to connect with peers from across the Pacesetters Ecosystem\, including buyers\, suppliers\, and business support organizations\,&nbsp\;engage in a panel discussion covering best practices with this year&rsquo\;s award winners\, and feel inspired about the continued opportunities there are to increase economic inclusion for minority business enterprises (MBEs).</span></span><span class="apple-converted-space"><span style="color: black\;">&nbsp\;</span></span></span><span style="font-size:13.0pt\;color:black"><o:p></o:p></span></p>\n
LOCATION:The Greater Boston Chamber of Commerce 265 Franklin Street Boston MA\, 02110
UID:e.2779.6109
SEQUENCE:3
DTSTAMP:20260426T030853Z
URL:https://members.bostonchamber.com/events/details/2024-annual-pacesetters-supplier-diversity-awards-6109
END:VEVENT

END:VCALENDAR
