BEGIN:VCALENDAR
VERSION:2.0
PRODID:-//ChamberMaster//Event Calendar 2.0//EN
METHOD:PUBLISH
X-PUBLISHED-TTL:P3D
REFRESH-INTERVAL:P3D
CALSCALE:GREGORIAN
BEGIN:VEVENT
DTSTART:20190613T213000Z
DTEND:20190614T030000Z
X-MICROSOFT-CDO-ALLDAYEVENT:FALSE
SUMMARY:Boston WIFFLE Ball Challenge
DESCRIPTION:Join us as teams go head to head for the championship title at the 9th Annual Boston WIFFLE Ball Challenge. All proceeds from the event benefit two of Boston's most respected non-profit organizations\, the Travis Roy Foundation and Franciscan Children's. There will be a 50/50 raffle\, BBQ dinner and Home Run Derby to determine the Championship team. To date the event has raised over $600\,000\, reaches over 1.2 million individuals through social media and sells out 32 corporate WIFFLE ball teams.
X-ALT-DESC;FMTTYPE=text/html:Join us as teams go head to head for the championship title at the 9th Annual Boston WIFFLE Ball Challenge. All proceeds from the event benefit two of Boston&#39\;s most respected non-profit organizations\, the Travis Roy Foundation and Franciscan Children&#39\;s. There will be a 50/50 raffle\, BBQ dinner and Home Run Derby to determine the Championship team. To date the event has raised over $600\,000\, reaches over 1.2 million individuals through social media and sells out 32 corporate WIFFLE ball teams.
LOCATION:Boston University's Nickerson Field 285 Babcock St. Boston\, MA 02215
UID:e.2779.3549
SEQUENCE:3
DTSTAMP:20260423T174552Z
URL:https://members.bostonchamber.com/events/details/boston-wiffle-ball-challenge-3549
END:VEVENT

END:VCALENDAR
