BEGIN:VCALENDAR
VERSION:2.0
PRODID:-//ChamberMaster//Event Calendar 2.0//EN
METHOD:PUBLISH
X-PUBLISHED-TTL:P3D
REFRESH-INTERVAL:P3D
CALSCALE:GREGORIAN
BEGIN:VEVENT
DTSTART:20190627T154500Z
DTEND:20190627T170000Z
X-MICROSOFT-CDO-ALLDAYEVENT:FALSE
SUMMARY:Chamber Networking Group
DESCRIPTION:This event is designed specifically for our small- to medium-size member companies who want to expand their network of contacts\, generate new business leads\, and learn the most effective strategies for networking. Attendees take part in a group "speed networking" and leave with at least twenty new business contacts.
X-ALT-DESC;FMTTYPE=text/html:This event is designed specifically for our small- to medium-size member companies who want to expand their network of contacts\, generate new business leads\, and learn the most effective strategies for networking. Attendees take part in a group &quot\;speed networking&quot\; and leave with at least twenty new business contacts.
LOCATION:Industrious (Boston Seaport) 22 Boston Wharf Road\, 7th Floor Boston\, MA 02210
UID:e.2779.3651
SEQUENCE:3
DTSTAMP:20260423T174542Z
URL:https://members.bostonchamber.com/events/details/chamber-networking-group-3651
END:VEVENT

END:VCALENDAR
