BEGIN:VCALENDAR
VERSION:2.0
PRODID:-//ChamberMaster//Event Calendar 2.0//EN
METHOD:PUBLISH
X-PUBLISHED-TTL:P3D
REFRESH-INTERVAL:P3D
CALSCALE:GREGORIAN
BEGIN:VEVENT
DTSTART:20260228T010000Z
DTEND:20260228T030000Z
X-MICROSOFT-CDO-ALLDAYEVENT:FALSE
SUMMARY:Dirty Dancing in Concert
DESCRIPTION:Join us for DIRTY DANCING IN CONCERT\, the classic film's first live film-to-concert experience. Enjoy the digitally remastered hit film like never before on a full-size cinema screen\, with a live band and singers performing the film's iconic songs. With a soundtrack that marked a generation\, Dirty Dancing in Concert promises to bring a thrilling new and unique experience to the 80s classic. Directly following the film\, the band and singers will throw an encore party that will surely take you back to the time of your life as you sing and dance along to your favorite Dirty Dancing songs. Immerse yourself in the timeless romance and experience one of the most memorable movies of the past 35 years - now live!
X-ALT-DESC;FMTTYPE=text/html:<div>\n<div>\n<p>Join us for&nbsp\;<strong>DIRTY DANCING IN CONCERT</strong>\, the classic film&rsquo\;s first live film-to-concert experience. Enjoy the digitally remastered hit film like never before on a full-size cinema screen\, with a live band and singers performing the film&rsquo\;s iconic songs. With a soundtrack that marked a generation\, Dirty Dancing in Concert&nbsp\;promises to bring a thrilling new and unique experience to the 80s classic. Directly following the film\, the band and singers will throw an encore party that will surely take you back to the time of your life as you sing and dance along to your favorite Dirty Dancing songs. Immerse yourself in the timeless romance and experience one of the most memorable movies of the past 35 years - now live!</p>\n</div>\n</div>\n
LOCATION:Boch Center Shubert Theatre 265 Tremont Street Boston\, MA 02116
UID:e.2779.8684
SEQUENCE:3
DTSTAMP:20260420T021116Z
URL:https://members.bostonchamber.com/events/details/dirty-dancing-in-concert-8684
END:VEVENT

END:VCALENDAR
