BEGIN:VCALENDAR
VERSION:2.0
PRODID:-//ChamberMaster//Event Calendar 2.0//EN
METHOD:PUBLISH
X-PUBLISHED-TTL:P3D
REFRESH-INTERVAL:P3D
CALSCALE:GREGORIAN
BEGIN:VEVENT
DTSTART:20190603T220000Z
DTEND:20190604T000000Z
X-MICROSOFT-CDO-ALLDAYEVENT:FALSE
SUMMARY:Lovin' Spoonfuls Season Workshop with Chef Tiffani Faison
DESCRIPTION:Lovin' Spoonfuls' invites you to join award-winning Chef Tiffani Faison (Sweet Cheeks Q\, Tiger Mama\, Fools' Errand) for an intimate workshop that will outline the essentials of successful dinners at home\, focusing on recipes that prevent waste. Chef Tiffani will prepare dishes that demonstrate waste-free cooking ideas\, all easily adaptable for the home cook. During the demonstration\, guests will enjoy snacks and wine prior to tasting the finished dishes. Each ticket supports Plenty\, Lovin' Spoonfuls' culinary nutrition program that provides the individuals we serve with the culinary know-how to empower them to feed themselves and their families.\n\nRegistration is limited to 20 tickets maximum!
X-ALT-DESC;FMTTYPE=text/html:<p style="text-align:center"><a href="https://e.givesmart.com/s/:gK7pklOuK0P/e/cZs/_designsettings/#" style="text-decoration-line: none\; color: rgb(0\, 173\, 239)\; box-sizing: border-box\;">Lovin&#39\; Spoonfuls&#39\;</a>&nbsp\;invites you to join award-winning Chef Tiffani Faison (<a href="https://e.givesmart.com/s/:gK7pklOuK0P/e/cZs/_designsettings/#" style="text-decoration-line: none\; color: rgb(0\, 173\, 239)\; box-sizing: border-box\;">Sweet Cheeks Q</a>\,&nbsp\;<a href="https://e.givesmart.com/s/:gK7pklOuK0P/e/cZs/_designsettings/#" style="text-decoration-line: none\; color: rgb(0\, 173\, 239)\; box-sizing: border-box\;">Tiger Mama</a>\,&nbsp\;<a href="https://e.givesmart.com/s/:gK7pklOuK0P/e/cZs/_designsettings/#" style="text-decoration-line: none\; color: rgb(0\, 173\, 239)\; box-sizing: border-box\;">Fools&#39\; Errand</a>) for an intimate workshop that will outline the essentials of successful dinners at home\, focusing on recipes that prevent waste. Chef Tiffani will prepare dishes that demonstrate waste-free cooking ideas\, all easily adaptable for the home cook. During the demonstration\, guests will enjoy snacks and wine prior to tasting the finished dishes. Each ticket supports&nbsp\;<strong>Plenty</strong>\, Lovin&#39\; Spoonfuls&#39\; culinary nutrition program that provides the individuals we serve with the culinary know-how to empower them to feed themselves and their families.</p>\n\n<p style="text-align:center"><strong>Registration is limited to 20 tickets maximum!</strong></p>\n
LOCATION:Boston Center for Adult Education Arlington Street Boston\, MA\, USA
UID:e.2779.3575
SEQUENCE:3
DTSTAMP:20260423T174839Z
URL:https://members.bostonchamber.com/events/details/lovin-spoonfuls-season-workshop-with-chef-tiffani-faison-3575
END:VEVENT

END:VCALENDAR
