BEGIN:VCALENDAR
VERSION:2.0
PRODID:-//ChamberMaster//Event Calendar 2.0//EN
METHOD:PUBLISH
X-PUBLISHED-TTL:P3D
REFRESH-INTERVAL:P3D
CALSCALE:GREGORIAN
BEGIN:VEVENT
DTSTART:20190605T200000Z
DTEND:20190605T233000Z
X-MICROSOFT-CDO-ALLDAYEVENT:FALSE
SUMMARY:Marcum Food & Beverage Summit
DESCRIPTION:The 2019 Marcum Food & Beverage Summit brings together the best and brightest in our field   food and beverage executives gathering with others in the industry for an evening of networking and vital information. Our panel will discuss the latest in innovation\, techniques to cope with regulatory issues\, and ways to combat disruptive forces in our industry. The Marcum Food & Beverage Summit is an essential event for industry executives looking to foster growth and continuity of business.\n\n \n\nInnovation is the key to success in the food and beverage industry. At the 2019 Food & Beverage Summit\, Marcum will award $2\,500 to the most innovative emerging F&B company. The winner will be chosen that night by attendees who will visit with company reps\, sample their products\, and then vote for their favorite.
X-ALT-DESC;FMTTYPE=text/html:<span style="font-size:medium"><span style="font-family:calibri">The 2019 Marcum Food &amp\; Beverage Summit brings together the best and brightest in our field &ndash\; food and beverage executives gathering with others in the industry for an evening of networking and vital information. Our panel will discuss the latest in innovation\, techniques to cope with regulatory issues\, and ways to combat disruptive forces in our industry. The Marcum Food &amp\; Beverage Summit is an essential event for industry executives looking to foster growth and continuity of business.</span></span><br />\n&nbsp\;<br />\n<span style="color:rgb(34\, 34\, 34)"><span style="font-size:medium"><span style="font-family:calibri">Innovation is the key to success in the food and beverage industry. At the 2019 Food &amp\; Beverage Summit\, Marcum will award $2\,500 to the most innovative emerging F&amp\;B company. The winner will be chosen that night by attendees who will visit with company reps\, sample their products\, and then vote for their favorite.</span></span></span><br />\n&nbsp\;
LOCATION:New Haven Lawn Club 193 Whitney Avenue New Haven\, CT 06511
UID:e.2779.3566
SEQUENCE:3
DTSTAMP:20260423T174721Z
URL:https://members.bostonchamber.com/events/details/marcum-food-beverage-summit-3566
END:VEVENT

END:VCALENDAR
