BEGIN:VCALENDAR
VERSION:2.0
PRODID:-//ChamberMaster//Event Calendar 2.0//EN
METHOD:PUBLISH
X-PUBLISHED-TTL:P3D
REFRESH-INTERVAL:P3D
CALSCALE:GREGORIAN
BEGIN:VEVENT
DTSTART:20230124T190000Z
DTEND:20230124T193000Z
X-MICROSOFT-CDO-ALLDAYEVENT:FALSE
SUMMARY:Massachusetts Business Outlook 2023
DESCRIPTION:The Chamber's President and CEO\, James E. Rooney\, will discuss the state of business in Massachusetts and the changing public policy environment as we enter 2023. With a new Administration and state Legislature sworn-in\, Jim will offer his thoughts on the significant policy issues facing the business community and the Chamber's role in advocating for a thriving\, dynamic business climate. Jim will reflect on both the state's strengths and the headwinds facing our economy\, as well as the opportunities and challenges facing business leaders in the Commonwealth.
X-ALT-DESC;FMTTYPE=text/html:<p style="margin: 0px\;"><span style="font-size:16px\;"><span style="font-family:arial\,sans-serif\;">The Chamber&rsquo\;s President and CEO\, James E. Rooney\, will discuss the state of business in Massachusetts and the changing public policy environment as we enter 2023. With a new Administration and state Legislature sworn-in\, Jim will offer his thoughts on the significant policy issues facing the business community and the Chamber&rsquo\;s role in advocating for a thriving\, dynamic business climate. Jim will reflect on both the state&rsquo\;s strengths and the headwinds facing our economy\, as well as the opportunities and challenges facing business leaders in the Commonwealth.</span></span></p>\n
LOCATION:https://events.bostonchamber.com/
UID:e.2779.5744
SEQUENCE:3
DTSTAMP:20260425T033938Z
URL:https://members.bostonchamber.com/events/details/massachusetts-business-outlook-2023-5744
END:VEVENT

END:VCALENDAR
