BEGIN:VCALENDAR
VERSION:2.0
PRODID:-//ChamberMaster//Event Calendar 2.0//EN
METHOD:PUBLISH
X-PUBLISHED-TTL:P3D
REFRESH-INTERVAL:P3D
CALSCALE:GREGORIAN
BEGIN:VEVENT
DTSTART:20190604T154500Z
DTEND:20190604T170000Z
X-MICROSOFT-CDO-ALLDAYEVENT:FALSE
SUMMARY:Maximize Your Membership!
DESCRIPTION:This is an opportunity to meet the Chamber staff as you learn how to leverage your Chamber benefits effectively to meet your goals through our offerings. Membership is corporate\, so we encourage anyone to attend!
X-ALT-DESC;FMTTYPE=text/html:<span style="font-size:14px\;"><span style="font-family:arial\;">This is an opportunity to meet the Chamber staff as you learn how to leverage your Chamber benefits effectively to meet your goals through our offerings. Membership is corporate\, so we encourage anyone to attend!</span></span>
LOCATION:265 Franklin Street\, Boston\, MA\, 02110\, 17th Floor
UID:e.2779.3535
SEQUENCE:3
DTSTAMP:20260423T174541Z
URL:https://members.bostonchamber.com/events/details/maximize-your-membership-3535
END:VEVENT

END:VCALENDAR
