BEGIN:VCALENDAR
VERSION:2.0
PRODID:-//ChamberMaster//Event Calendar 2.0//EN
METHOD:PUBLISH
X-PUBLISHED-TTL:P3D
REFRESH-INTERVAL:P3D
CALSCALE:GREGORIAN
BEGIN:VEVENT
DTSTART:20230118T190000Z
DTEND:20230118T203000Z
X-MICROSOFT-CDO-ALLDAYEVENT:FALSE
SUMMARY:Maximize Your Membership - Q1 2023
DESCRIPTION:Are you new to the Boston Chamber\, or just looking for a refresher? Join the Greater Boston Chamber of Commerce on Wednesday\, January 18th from 2-3:30pm for our first members-only networking event of the year!\n\n \n\nCome learn more about the benefits included with your Chamber Membership\, connect with new and existing members\, and build your network in the Greater Boston business community.\n\n \n\nThere will be light appetizers provided\, and tickets are limited\, so please register in advance if you plan to attend.\n\n \n\nAll Chamber Member employees are encouraged to attend\, whether you are working on expanding your network\, generating new business leads\, or interested in meeting other professionals in Greater Boston.\n\n\n\nNot sure if your organization is a member? Search our Membership Directory to find out.
X-ALT-DESC;FMTTYPE=text/html:<span style="font-size:14px\;"><span style="font-family:arial\;">Are you new to the Boston Chamber\, or just looking for a refresher? Join the Greater Boston Chamber of Commerce on Wednesday\, January 18th from 2-3:30pm for our first members-only networking event of the year!<br />\n&nbsp\;<br />\nCome learn more about the benefits included with your Chamber Membership\, connect with new and existing members\, and build your network in the Greater Boston business community.<br />\n&nbsp\;<br />\nThere will be light appetizers provided\, and tickets are limited\, so please register in advance if you plan to attend.<br />\n&nbsp\;<br />\nAll Chamber Member employees are encouraged to attend\, whether you are working on expanding your network\, generating new business leads\, or interested in meeting other professionals in Greater Boston.<br />\n<br />\nNot sure if your organization is a member? Search our <a href="https://bostonchamber.com/member-directory/"><strong>Membership Directory</strong></a> to find out.</span></span>
LOCATION:265 Franklin Street 17th Floor Boston\, MA\, 02110
UID:e.2779.5727
SEQUENCE:3
DTSTAMP:20260421T092452Z
URL:https://members.bostonchamber.com/events/details/maximize-your-membership-q1-2023-5727
END:VEVENT

END:VCALENDAR
