BEGIN:VCALENDAR
VERSION:2.0
PRODID:-//ChamberMaster//Event Calendar 2.0//EN
METHOD:PUBLISH
X-PUBLISHED-TTL:P3D
REFRESH-INTERVAL:P3D
CALSCALE:GREGORIAN
BEGIN:VEVENT
DTSTART:20190614T120000Z
DTEND:20190614T133000Z
X-MICROSOFT-CDO-ALLDAYEVENT:FALSE
SUMMARY:Paid Family Medical Leave Educational Session
DESCRIPTION:Paid Family Medical Leave Educational Session\n\n \nAs the Paid Family and Medical Leave (PFML) law goes into effect on July 1st\, 2019\, join us for an educational session with representatives from the Executive Office of Labor and Workforce Development (EOLWD) to learn more about the program\, its implementation\, and ask questions on your business' mind.\n\nThe Chamber invites you to attend this exclusive and informational session. To learn more about the Chamber's work relating to the PFML law\, please visit our Issues & Impact page.
X-ALT-DESC;FMTTYPE=text/html:Paid Family Medical Leave Educational Session<br />\n&nbsp\;\n<p style="box-sizing: border-box\; margin-top: 0px\; margin-bottom: 1em\; font-size: 16px\; line-height: 1.3\; font-family: Montserrat-Light\, sans-serif\;"><span style="font-size:14px\;"><span style="font-family:arial\;">As the Paid Family and Medical Leave (PFML) law goes into effect on July 1<sup style="box-sizing: border-box\;">st</sup>\, 2019\, join us for an educational session with representatives from the Executive Office of Labor and Workforce Development (EOLWD) to learn more about the program\, its implementation\, and ask questions on your business&rsquo\; mind.</span></span></p>\n\n<p style="box-sizing: border-box\; margin-top: 0px\; margin-bottom: 1em\; font-size: 16px\; line-height: 1.3\; font-family: Montserrat-Light\, sans-serif\;"><span style="font-size:14px\;"><span style="font-family:arial\;">The Chamber invites you to attend this exclusive and informational&nbsp\;session.&nbsp\;To learn more about the Chamber&#39\;s work relating to the PFML law\, please visit&nbsp\;our&nbsp\;<a href="https://www.bostonchamber.com/public-policy/issues-impact" target="_blank">Issues &amp\; Impact&nbsp\;page</a>.&nbsp\;</span></span></p>\n
LOCATION:Greater Boston Chamber of Commerce 265 Franklin Street\, 17th Floor Boston\, MA 02110
UID:e.2779.3656
SEQUENCE:3
DTSTAMP:20260423T174838Z
URL:https://members.bostonchamber.com/events/details/paid-family-medical-leave-educational-session-3656
END:VEVENT

END:VCALENDAR
