BEGIN:VCALENDAR
VERSION:2.0
PRODID:-//ChamberMaster//Event Calendar 2.0//EN
METHOD:PUBLISH
X-PUBLISHED-TTL:P3D
REFRESH-INTERVAL:P3D
CALSCALE:GREGORIAN
BEGIN:VEVENT
DTSTART:20171026T120000Z
DTEND:20171026T173000Z
X-MICROSOFT-CDO-ALLDAYEVENT:FALSE
SUMMARY:Small Business "Thrive"
DESCRIPTION:You are invited to Thrive\, an MBA-like formatted program taught by industry experts and specifically designed for scaling small business leaders seeking peer-to-peer education. Thrive is a half-day program\, consisting of 90-minute interactive sessions that provide lessons in advanced business disciplines\, including innovation and leadership\, cyber security and fraud protection\, and how to navigate health insurance.
X-ALT-DESC;FMTTYPE=text/html:You are invited to&nbsp\;<strong>Thrive</strong>\, an MBA-like formatted program&nbsp\;taught by industry experts and&nbsp\;specifically designed for scaling small business leaders seeking peer-to-peer education. Thrive is a half-day program\, consisting of 90-minute interactive sessions that provide lessons in advanced business disciplines\, including innovation and leadership\, cyber security and fraud protection\, and how to navigate health insurance.&nbsp\;
LOCATION:Greater Boston Chamber of Commerce 265 Franklin Street\, 17th Floor Boston\, MA 02110
UID:e.2779.1805
SEQUENCE:3
DTSTAMP:20260421T022043Z
URL:https://members.bostonchamber.com/events/details/small-business-thrive-1805
END:VEVENT

END:VCALENDAR
