BEGIN:VCALENDAR
VERSION:2.0
PRODID:-//ChamberMaster//Event Calendar 2.0//EN
METHOD:PUBLISH
X-PUBLISHED-TTL:P3D
REFRESH-INTERVAL:P3D
CALSCALE:GREGORIAN
BEGIN:VEVENT
DTSTART:20251119T130000Z
DTEND:20251119T160000Z
X-MICROSOFT-CDO-ALLDAYEVENT:FALSE
SUMMARY:The Strategy Brew
DESCRIPTION:Join Edwin Rosales of Rosales.Etc and Gladys Mu oz of IntiNova Consulting for a special edition of The Strategy Brew   a casual\, community-driven networking event for entrepreneurs\, freelancers\, and small business owners ready to connect\, collaborate\, and grow.\n\nThis morning meetup is all about brewing ideas\, strategy\, and community. Whether you're refining your business goals\, brainstorming marketing ideas\, or looking to connect with other local entrepreneurs\, this gathering offers a relaxed and supportive space to share insights and get inspired.\n\nLocation: Incubate Coworking\, Lynn\, MA\n\nDate & Time: November 19 | 9:00 11:00 AM\n\nFree event   registration required: RSVP here\n\nLight refreshments will be provided.
X-ALT-DESC;FMTTYPE=text/html:<p>Join <strong>Edwin Rosales</strong> of <strong>Rosales.Etc</strong> and <strong>Gladys Mu&ntilde\;oz</strong> of <strong>IntiNova Consulting</strong> for a special edition of <em>The Strategy Brew</em> &mdash\; a casual\, community-driven networking event for entrepreneurs\, freelancers\, and small business owners ready to connect\, collaborate\, and grow.</p>\n\n<p>This morning meetup is all about <strong>brewing ideas\, strategy\, and community.</strong> Whether you&rsquo\;re refining your business goals\, brainstorming marketing ideas\, or looking to connect with other local entrepreneurs\, this gathering offers a relaxed and supportive space to share insights and get inspired.</p>\n\n<p><strong>Location:</strong> Incubate Coworking\, Lynn\, MA<br />\n<strong>Date &amp\; Time:</strong> November 19 | 9:00&ndash\;11:00 AM<br />\n<strong>Free event &mdash\; registration required:</strong> <a class="decorated-link" href="https://luma.com/z8axeopr" rel="noopener" target="_new">RSVP here</a><br />\n<strong>Light refreshments will be provided.</strong></p>\n
LOCATION:Incubate Coworking 2nd Floor 614 Washington St\, Lynn\, MA 01901
UID:e.2779.7676
SEQUENCE:3
DTSTAMP:20260419T185109Z
URL:https://members.bostonchamber.com/events/details/the-strategy-brew-7676
END:VEVENT

END:VCALENDAR
