BEGIN:VCALENDAR
VERSION:2.0
PRODID:-//ChamberMaster//Event Calendar 2.0//EN
METHOD:PUBLISH
X-PUBLISHED-TTL:P3D
REFRESH-INTERVAL:P3D
CALSCALE:GREGORIAN
BEGIN:VEVENT
DTSTART:20190606T220000Z
DTEND:20190607T000000Z
X-MICROSOFT-CDO-ALLDAYEVENT:FALSE
SUMMARY:UNCF New England 75th Anniversary "A Mind Is..." Reception
DESCRIPTION:In 2019\, UNCF will commemorate a 75-year legacy of serving historically black colleges and universities (HBCUs) and their students with celebrations across the country.  Locally\, UNCF will host the 75th Anniversary "A Mind Is..." New England Reception on June 6th honoring those who have contributed so much to advance educational oportunities for young people of color.\n\n\n\nSince\, 1944\, UNCF has assisted more than 460\,000 young men and women attain a college degree.  Our 75th Anniversary New England Reception promises to be an exciting evening in celebration of UNCF's member collges and universities\, their students and alumni\, and our accomplishments.\n\n\n\nMost importantly\, it is a great opportunity to invest in the future.  Funds raised will help UNCF ensure that more young people with limited financial resources continue to have a pathway to college.\n\n \n\nHonorees\n\n\nLifetime Achievement Award Recipients\n\nFletcher "Flash" and Benaree "Bennie" P. Wiley\n\n\n\nLeadership Award Recipient\n\nRonald L. Walker\, II\, Chief Operating Officer\, Rasky Partners\n\n(Former Secretary of Labor & Workforce Development for the Commonwealth of Massachusetts)\n\n\n\nThe Shirley Chisholm Community Service Award\n\nThe Honorable Frederick L. Brown \n\n \n\nReception Honorary Chairs\n\n\nCharles D. Baker\, Governor\, Commonwealth of Massachusetts\n\n\n\nMartin J. Walsh\, Mayor\, City of Boston\n\n\n\nRachael Rollins\, District Attorney\, Suffolk County\n\n\n\nSam Kennedy\, President and CEO\, Boston Red Sox\n\n\n\nMistress of Ceremonies\nShayna Seymour\, Chronicle Anchor\, WCVB 5\, ABC\n\n\nReception Committee\nJay Ash\, CEO\, Massachusetts Competitive Partnership\n\nShavon Bell\, Principal Executive Search\, Koya Leadership Partnership\n\nJustin Bullion\, CFA\, Managing Principal\, Payden & Rygel\n\nPamela Everhart\, Sr. VP\, Head of Regional Public Affairs & Community Relations\, Fidelity Investments\n\nKeon T. Holmes\, CFA\, Managing Director\, Cambridge Associates\n\nRobert L. Lewis\, Jr.\, Founder & President\, The BASE\n\nGary Morton\, Director\, Give with Liberty Mutual\, Liberty Mutual Foundation\n\nTony Richards\, II\, Deputy Chief for Access & Opportunity\, Massachusetts Governor's Office\n\nDemetriouse Russell\, Founder & Managing Partner\, Venn Diagram Partners\n\nRichard Taylor\, Chairman\, Taylor Smith Group\n\nJacquetta Van Zandt\, Sr. Advisor of External Relations\, City of Framingham\, Mayor's Office\n\nGregory White\, Managing Director\, Thomas H. Lee Partners
X-ALT-DESC;FMTTYPE=text/html:<span style="color:#000080">In 2019\, UNCF will commemorate a 75-year legacy of serving historically black colleges and universities (HBCUs) and their students with celebrations across the country.&nbsp\; Locally\, UNCF will host the 75th Anniversary &quot\;A Mind Is...&quot\; New England Reception on June 6th honoring those who have contributed so much to advance educational oportunities for young people of color.<br />\n<br />\nSince\, 1944\, UNCF has assisted more than 460\,000 young men and women attain a college degree.&nbsp\; Our 75th Anniversary New England Reception promises to be an exciting evening in celebration of UNCF&#39\;s member collges and universities\, their students and alumni\, and our accomplishments.<br />\n<br />\nMost importantly\, it is a great opportunity to invest in the future.&nbsp\; Funds raised will help UNCF ensure that more young people with limited financial resources continue to have a pathway to college.</span><br />\n&nbsp\;\n<hr />\n<div style="text-align:center"><span style="color:#000080"><span style="font-size:14px"><strong>Honorees</strong></span></span></div>\n<br />\n<span style="color:#000080"><span style="font-size:14px"><strong>Lifetime Achievement Award Recipients</strong></span><br />\n<span style="font-size:14px"><strong>Fletcher &quot\;Flash&quot\; and Benaree &quot\;Bennie&quot\; P. Wiley</strong></span><br />\n<br />\n<span style="font-size:14px"><strong>Leadership Award Recipient</strong><br />\n<strong>Ronald L. Walke</strong>r\, II</span>\, Chief Operating Officer\, Rasky Partners<br />\n<em>(Former Secretary of Labor &amp\; Workforce Development for the Commonwealth of Massachusetts)</em><br />\n<br />\n<span style="font-size:14px"><strong>The Shirley Chisholm Community Service Award<br />\nThe Honorable Frederick L. Brown&nbsp\;</strong></span></span><br />\n&nbsp\;\n<hr />\n<div style="text-align:center"><span style="color:#000080"><span style="font-size:14px"><strong>Reception Honorary Chairs</strong></span></span></div>\n<br />\n<span style="color:#000080"><span style="font-size:14px"><strong>Charles D. Baker</strong></span>\, Governor\, Commonwealth of Massachusetts<br />\n<br />\n<span style="font-size:14px"><strong>Martin J. Walsh</strong></span>\, Mayor\, City of Boston<br />\n<br />\n<strong><span style="font-size:14px">Rachael Rollins</span></strong>\, District Attorney\, Suffolk County<br />\n<br />\n<span style="font-size:14px"><strong>Sam Kennedy</strong></span>\, President and CEO\, Boston Red Sox</span>\n\n<hr />\n<hr />\n<div style="text-align:center"><span style="color:#000080"><strong><span style="font-size:14px">Mistress of Ceremonies</span></strong></span></div>\n<span style="color:#000080"><strong><span style="font-size:14px">Shayna Seymour</span></strong>\, Chronicle Anchor\, WCVB 5\, ABC</span>\n\n<hr />\n<div style="text-align:center"><span style="color:#000080"><strong><span style="font-size:14px">Reception Committee</span></strong></span></div>\n<span style="color:#000080"><span style="font-size:14px"><strong>Jay Ash</strong></span>\, CEO\, Massachusetts Competitive Partnership<br />\n<span style="font-size:14px"><strong>Shavon Bell</strong></span>\, Principal Executive Search\, Koya Leadership Partnership<br />\n<span style="font-size:14px"><strong>Justin Bullion\, CFA</strong></span>\, Managing Principal\, Payden &amp\; Rygel<br />\n<strong><span style="font-size:14px">Pamela Everhart</span></strong>\, Sr. VP\, Head of Regional Public Affairs &amp\; Community Relations\, Fidelity Investments<br />\n<strong><span style="font-size:14px">Keon T. Holmes\, CFA</span></strong>\, Managing Director\, Cambridge Associates<br />\n<strong><span style="font-size:14px">Robert L. Lewis\, Jr</span></strong>.\, Founder &amp\; President\, The BASE<br />\n<strong><span style="font-size:14px">Gary Morton</span></strong>\, Director\, Give with Liberty Mutual\, Liberty Mutual Foundation<br />\n<strong><span style="font-size:14px">Tony Richards\, II</span></strong>\, Deputy Chief for Access &amp\; Opportunity\, Massachusetts Governor&#39\;s Office<br />\n<strong><span style="font-size:14px">Demetriouse Russell</span></strong>\, Founder &amp\; Managing Partner\, Venn Diagram Partners<br />\n<strong><span style="font-size:14px">Richard Taylor\,</span></strong> Chairman\, Taylor Smith Group<br />\n<strong><span style="font-size:14px">Jacquetta Van Zandt</span></strong>\, Sr. Advisor of External Relations\, City of Framingham\, Mayor&#39\;s Office<br />\n<strong><span style="font-size:14px">Gregory White</span></strong>\, Managing Director\, Thomas H. Lee Partners</span>
LOCATION:Four Seasons Boston 200 Boylston Street Boston\, MA 02116
UID:e.2779.3585
SEQUENCE:3
DTSTAMP:20260423T174721Z
URL:https://members.bostonchamber.com/events/details/uncf-new-england-75th-anniversary-a-mind-is-reception-3585
END:VEVENT

END:VCALENDAR
