BEGIN:VCALENDAR
VERSION:2.0
PRODID:-//ChamberMaster//Event Calendar 2.0//EN
METHOD:PUBLISH
X-PUBLISHED-TTL:P3D
REFRESH-INTERVAL:P3D
CALSCALE:GREGORIAN
BEGIN:VEVENT
DTSTART:20190514T203000Z
DTEND:20190514T233000Z
X-MICROSOFT-CDO-ALLDAYEVENT:FALSE
SUMMARY:Win The War For Talent: Is Sustainability What’s Missing From Your Hiring Strategy?
DESCRIPTION:What makes the best candidates choose your company over a competitor? A growing number of people want employers that make the world a better place. Over 75% of Millennials consider a company's social and environmental commitments when deciding where to work. This trend is even greater with Gen Z.\n\nHaving strong sustainability practices can not only help you win the war for talent but also avoid the high cost of turnover. This event will bridge the gap between your HR and sustainability teams and demonstrate how your company's sustainability can attract and retain talent. You can't afford to miss it!\n\nConfirmed speakers include:\n\n\n	Nancy Stager\, Executive Vice President\, Human Resources & Charitable Giving\, Eastern Bank\n	Elzan Godlewski\, Assistant Vice President\, State Street Corporation\n	Justin Kang\, Vice President\, Economic Growth/Executive Director\, City Awake\, Greater Boston Chamber of Commerce
X-ALT-DESC;FMTTYPE=text/html:<p>What makes the best candidates choose your company over a competitor? A growing number of people want employers that make the world a better place. Over 75% of Millennials consider a company&rsquo\;s social and environmental commitments when deciding where to work. This trend is even greater with Gen Z.</p>\n\n<p>Having strong sustainability practices can not only help you win the war for talent but also avoid the high cost of turnover. This event will bridge the gap between your HR and sustainability teams and demonstrate how your company&rsquo\;s sustainability can attract and retain talent. You can&rsquo\;t afford to miss it!</p>\n\n<p>Confirmed speakers include:</p>\n\n<ul>\n	<li>Nancy Stager\, Executive Vice President\, Human Resources &amp\; Charitable Giving\,&nbsp\;<strong>Eastern Bank</strong></li>\n	<li>Elzan Godlewski\, Assistant Vice President\,&nbsp\;<strong>State Street Corporation</strong></li>\n	<li>Justin Kang\,&nbsp\;Vice President\, Economic Growth/Executive Director\, City Awake\,&nbsp\;<strong>Greater Boston Chamber of Commerce</strong></li>\n</ul>\n
LOCATION:Federal Reserve Plaza 600 Atlantic Avenue Boston\, MA 02210
UID:e.2779.3576
SEQUENCE:3
DTSTAMP:20260421T045710Z
URL:https://members.bostonchamber.com/events/details/win-the-war-for-talent-is-sustainability-what-s-missing-from-your-hiring-strategy-3576
END:VEVENT

END:VCALENDAR
