BEGIN:VCALENDAR
VERSION:2.0
PRODID:-//ChamberMaster//Event Calendar 2.0//EN
METHOD:PUBLISH
X-PUBLISHED-TTL:P3D
REFRESH-INTERVAL:P3D
CALSCALE:GREGORIAN
BEGIN:VEVENT
DTSTART:20190625T180000Z
DTEND:20190625T183000Z
X-MICROSOFT-CDO-ALLDAYEVENT:FALSE
SUMMARY:Women's Leadership Program 2019 Webinar
DESCRIPTION:In this webinar\, our Leadership Initiatives team will provide an overview of the Chamber's Women's Leadership Program. Nominations are now open! \n\n\n\nTo register for the webinar\, use the link below!\n\nhttps://bostonchamber.webex.com/bostonchamber/onstage/g.php?MTID=e2d336b0ec3fde4f2b3793598959e621d\n\n\n\nSee the 2019/2020 WLP Program Schedule (PDF).
X-ALT-DESC;FMTTYPE=text/html:<span style="font-family:arial\;"><span style="font-size:14px\;">In this webinar\, our Leadership Initiatives team will provide an overview of the Chamber&#39\;s Women&#39\;s Leadership Program.&nbsp\;</span></span><span style="font-family: arial\; font-size: 14px\;">Nominations are&nbsp\;</span><u style="font-family: arial\; font-size: 14px\;"><strong><span style="color: rgb(255\, 0\, 0)\;">now open</span></strong></u><span style="font-family: arial\; font-size: 14px\;">!&nbsp\;</span><br />\n<br />\n<span style="font-family:arial\;"><span style="font-size: 14px\;">To&nbsp\;register for the webinar\, use the link below!</span></span><br />\n<a href="https://bostonchamber.webex.com/bostonchamber/onstage/g.php?MTID=e2d336b0ec3fde4f2b3793598959e621d" id="attendeeURL" style="color: rgb(0\, 150\, 214)\; font-size: 14px\; font-family: ciscosansttregular\, &quot\;Helvetica Neue&quot\;\, Helvetica\, Arial\, sans-serif\; white-space: nowrap\;">https://bostonchamber.webex.com/bostonchamber/onstage/g.php?MTID=e2d336b0ec3fde4f2b3793598959e621d</a><br />\n<br />\n<span style="font-family:arial\;"><span style="font-size: 14px\;">See the&nbsp\;</span><strong style="box-sizing: border-box\; font-family: Montserrat-Light\, sans-serif\; font-size: 14px\;"><a href="https://www.bostonchamber.com/media/leadership/GBCC-WLP-2019-Curriculum.pdf" style="box-sizing: border-box\; text-decoration-line: none\; color: rgb(54\, 176\, 201)\; transition: all 0.2s ease-out 0s\; font-family: Montserrat-Regular\, sans-serif\;" target="_blank">2019/2020 WLP Program Schedule</a></strong><span style="font-size: 14px\;">&nbsp\;(PDF).&nbsp\;</span></span>
LOCATION:Online! Link to webinar: https://bostonchamber.webex.com/bostonchamber/onstage/g.php?MTID=e2d336b0ec3fde4f2b3793598959e621d Webinar password: Chamber1
UID:e.2779.3660
SEQUENCE:3
DTSTAMP:20260423T174546Z
URL:https://members.bostonchamber.com/events/details/women-s-leadership-program-2019-webinar-3660
END:VEVENT

END:VCALENDAR
