BEGIN:VCALENDAR
VERSION:2.0
PRODID:-//ChamberMaster//Event Calendar 2.0//EN
METHOD:PUBLISH
X-PUBLISHED-TTL:P3D
REFRESH-INTERVAL:P3D
CALSCALE:GREGORIAN
BEGIN:VEVENT
DTSTART:20190625T113000Z
DTEND:20190626T013000Z
X-MICROSOFT-CDO-ALLDAYEVENT:FALSE
SUMMARY:2019 Women's Network Breakfast | "Wellness in the Workplace" Panel Discussion
DESCRIPTION:With ever-increasing demands on their personal and professional lives\, women often tiptoe along the line of balance and struggle to maintain peak performance. Now\, business leaders are beginning to explore the impact stress has on the mental health of their employees and their productivity.\n\nIf we are socialized to believe that emotional and anxious behavior are qualities that cannot be exhibited by successful businesspeople\, how then do organizations reconcile encouraging their leaders to be "authentic" and vulnerable? To do so\, means to admit that our leaders too struggle with personal challenges\, including mental health.\n\nIn this discussion\, a panel of experts from across business\, medicine\, and academia join us to explore:\n\n\n	How to nurture healthy environments that promote mental wellness\n	Removing stigma around a prevalent and common health issue\n	Tackling lesser known but equally impactful behaviors that can impact your employees' emotional wellbeing\, like bullying.
X-ALT-DESC;FMTTYPE=text/html:<p style="margin: 0px 0px 16px\; padding: 0px\; border: 0px\; font-variant-numeric: inherit\; font-variant-east-asian: inherit\; font-stretch: inherit\; font-size: 16px\; line-height: inherit\; font-family: &quot\;Trebuchet MS&quot\;\, &quot\;Helvetica Neue&quot\;\, Helvetica\, Tahoma\, sans-serif\; vertical-align: baseline\;"><span style="font-size:14px\;"><span style="font-family:arial\;"><span style="margin: 0px\; padding: 0px\; border: 0px\; font-style: inherit\; font-variant: inherit\; font-weight: inherit\; font-stretch: inherit\; line-height: inherit\; vertical-align: baseline\;">With ever-increasing demands on their personal and professional lives\, women often tiptoe along the line of balance and struggle to maintain peak performance. Now\, business leaders are beginning to explore the impact stress has on the mental health of their employees and their productivity.</span></span></span></p>\n\n<p style="margin: 0px 0px 16px\; padding: 0px\; border: 0px\; font-variant-numeric: inherit\; font-variant-east-asian: inherit\; font-stretch: inherit\; font-size: 16px\; line-height: inherit\; font-family: &quot\;Trebuchet MS&quot\;\, &quot\;Helvetica Neue&quot\;\, Helvetica\, Tahoma\, sans-serif\; vertical-align: baseline\;"><span style="font-size:14px\;"><span style="font-family:arial\;">If we are socialized to believe that emotional and anxious behavior are qualities that cannot be exhibited by successful businesspeople\, how then do organizations reconcile encouraging their leaders to be &ldquo\;authentic&rdquo\; and vulnerable? To do so\, means to admit that our leaders too struggle with personal challenges\, including mental health.</span></span></p>\n\n<p style="margin: 0px 0px 16px\; padding: 0px\; border: 0px\; font-variant-numeric: inherit\; font-variant-east-asian: inherit\; font-stretch: inherit\; font-size: 16px\; line-height: inherit\; font-family: &quot\;Trebuchet MS&quot\;\, &quot\;Helvetica Neue&quot\;\, Helvetica\, Tahoma\, sans-serif\; vertical-align: baseline\;"><span style="font-size:14px\;"><span style="font-family:arial\;">In this discussion\, a panel of experts from across business\, medicine\, and academia join us to explore:</span></span></p>\n\n<ul style="margin: 0px 0px 16px 24px\; padding-right: 0px\; padding-left: 0px\; border: 0px\; font-variant-numeric: inherit\; font-variant-east-asian: inherit\; font-stretch: inherit\; font-size: 16px\; line-height: inherit\; font-family: &quot\;Trebuchet MS&quot\;\, &quot\;Helvetica Neue&quot\;\, Helvetica\, Tahoma\, sans-serif\; vertical-align: baseline\; list-style-position: initial\; list-style-image: initial\;">\n	<li style="margin: 0px\; padding: 0px\; border: 0px\; font: inherit\; vertical-align: baseline\; text-align: left\;"><span style="font-size:14px\;"><span style="font-family:arial\;">How to nurture healthy environments that promote mental wellness</span></span></li>\n	<li style="margin: 0px\; padding: 0px\; border: 0px\; font: inherit\; vertical-align: baseline\; text-align: left\;"><span style="font-size:14px\;"><span style="font-family:arial\;">Removing stigma around a prevalent and common health issue</span></span></li>\n	<li style="margin: 0px\; padding: 0px\; border: 0px\; font: inherit\; vertical-align: baseline\; text-align: left\;"><span style="font-size:14px\;"><span style="font-family:arial\;">Tackling lesser known but equally impactful behaviors that can impact your employees&rsquo\; emotional wellbeing\, like bullying.</span></span></li>\n</ul>\n
LOCATION:Omni Parker House\, Rooftop Ballroom 60 School St Boston\, MA 02108
UID:e.2779.3564
SEQUENCE:3
DTSTAMP:20260423T174732Z
URL:https://members.bostonchamber.com/events/details/women-s-network-breakfast-wellness-in-the-workplace-panel-discussion-3564
END:VEVENT

END:VCALENDAR
