BEGIN:VCALENDAR
VERSION:2.0
PRODID:-//ChamberMaster//Event Calendar 2.0//EN
METHOD:PUBLISH
X-PUBLISHED-TTL:P3D
REFRESH-INTERVAL:P3D
CALSCALE:GREGORIAN
BEGIN:VEVENT
DTSTART:20190619T220000Z
DTEND:20190620T000000Z
X-MICROSOFT-CDO-ALLDAYEVENT:FALSE
SUMMARY:Workshop and Book Event: Your Guide to Public Speaking
DESCRIPTION:Join us for a public speaking workshop with Amanda Hennessey\, founder of Boston Public Speaking and Boston Acting Classes\, and author of Your Guide to Public Speaking: Build Your Confidence\, Find your Voice\, and Inspire Your Audience. In this interactive workshop\, Amanda will teach you how to manage your nerves and how to choose a mindset and use body language that will set you up for success.
X-ALT-DESC;FMTTYPE=text/html:<span style="font-size:14px\;"><span style="font-family:arial\;"><span style="color:#202020\;">Join us for a public speaking workshop with Amanda Hennessey\, founder of Boston Public Speaking and Boston Acting Classes\, and author of&nbsp\;<a href="https://bostonpublicspeaking.us12.list-manage.com/track/click?u=e813fe0fe77933f853f53440e&amp\;id=aca7258b73&amp\;e=828f290265" target="_blank"><em><strong><span style="color:#007C89\;">Your Guide to Public Speaking: Build Your Confidence\, Find your Voice\, and Inspire Your Audience</span></strong></em><strong><span style="color:#007C89\;">.</span></strong></a>&nbsp\;In this interactive workshop\, Amanda will teach you how to manage your nerves and how to choose a mindset and use body language that will set you up for success.</span>&nbsp\;&nbsp\;</span></span>
LOCATION:Cambridge Public Library - Main Library\, Community Room 449 Broadway\, Cambridge\, MA
UID:e.2779.3865
SEQUENCE:3
DTSTAMP:20260423T174804Z
URL:https://members.bostonchamber.com/events/details/workshop-and-book-event-your-guide-to-public-speaking-3865
END:VEVENT

END:VCALENDAR
